BEGIN:VCALENDAR
VERSION:2.0
PRODID:-//Tukios.com/
BEGIN:VEVENT
UID:98bc74fc-73ec-4f13-be6e-fb4a72032a84@www.newtoncountyfuneralhome.com
DTSTAMP:20260425T195320Z
DTSTART:20260428T190000Z
DTEND:20260428T200000Z
SUMMARY:Graveside Service
DESCRIPTION:
URL:https://www.newtoncountyfuneralhome.com/obituaries/richard-prestage
LOCATION:Oak Grove Church of God 1776 Smith County Road  Morton MS 39117
GEO:32.3537557;-89.6545171
END:VEVENT
END:VCALENDAR