BEGIN:VCALENDAR
VERSION:2.0
PRODID:-//Tukios.com/
BEGIN:VEVENT
UID:d09e894b-8b95-4ddf-9c80-eb61d71092d1@www.newtoncountyfuneralhome.com
DTSTAMP:20260425T195059Z
DTSTART:20260428T180000Z
DTEND:20260428T190000Z
SUMMARY:Funeral Service
DESCRIPTION:
URL:https://www.newtoncountyfuneralhome.com/obituaries/richard-prestage
LOCATION: 2824 Old Highway 80  Forest MS 39074
GEO:32.3830634;-89.4096293
END:VEVENT
END:VCALENDAR