BEGIN:VCALENDAR
VERSION:2.0
PRODID:-//Tukios.com/
BEGIN:VEVENT
UID:0e6fa5ec-3ba3-48b9-99ac-176e1ffa0b7c@www.newtoncountyfuneralhome.com
DTSTAMP:20260425T195320Z
DTSTART:20260428T160000Z
DTEND:20260428T180000Z
SUMMARY:Viewing
DESCRIPTION:
URL:https://www.newtoncountyfuneralhome.com/obituaries/richard-prestage
LOCATION:Liberty Baptist Church 2824 Old Highway 80  Forest MS 39074
GEO:32.3830634;-89.4096293
END:VEVENT
END:VCALENDAR