BEGIN:VCALENDAR
VERSION:2.0
PRODID:-//Tukios.com/
BEGIN:VEVENT
UID:c5ceb0fc-9e81-4513-a46d-c0a3816b3391@www.newtoncountyfuneralhome.com
DTSTAMP:20260425T195223Z
DTSTART:20260427T220000Z
DTEND:20260428T000000Z
SUMMARY:Viewing
DESCRIPTION:
URL:https://www.newtoncountyfuneralhome.com/obituaries/richard-prestage
LOCATION: 9998 MS-15  Newton MS 39345
GEO:32.3635653;-89.1259704
END:VEVENT
END:VCALENDAR